BEGIN:VCALENDAR
VERSION:2.0
PRODID:-//Bachelor of Economics, International Program - ECPv6.15.11//NONSGML v1.0//EN
CALSCALE:GREGORIAN
METHOD:PUBLISH
X-WR-CALNAME:Bachelor of Economics, International Program
X-ORIGINAL-URL:https://www.be.econ.tu.ac.th
X-WR-CALDESC:Events for Bachelor of Economics, International Program
REFRESH-INTERVAL;VALUE=DURATION:PT1H
X-Robots-Tag:noindex
X-PUBLISHED-TTL:PT1H
BEGIN:VTIMEZONE
TZID:Asia/Bangkok
BEGIN:STANDARD
TZOFFSETFROM:+0700
TZOFFSETTO:+0700
TZNAME:+07
DTSTART:20240101T000000
END:STANDARD
END:VTIMEZONE
BEGIN:VEVENT
DTSTART;TZID=Asia/Bangkok:20251201T080000
DTEND;TZID=Asia/Bangkok:20251209T170000
DTSTAMP:20260422T072720
CREATED:20250901T045902Z
LAST-MODIFIED:20250901T045902Z
UID:10000089-1764576000-1765299600@www.be.econ.tu.ac.th
SUMMARY:Final exam period*
DESCRIPTION:Nov. 24-30\, Dec. 1-9\, 2025 Final exam period*
URL:https://www.be.econ.tu.ac.th/event/final-exam-period-8/
CATEGORIES:Exam Periad,Academic Calendar,Events
END:VEVENT
END:VCALENDAR