BEGIN:VCALENDAR
VERSION:2.0
PRODID:-//Bachelor of Economics, International Program - ECPv6.15.11//NONSGML v1.0//EN
CALSCALE:GREGORIAN
METHOD:PUBLISH
X-WR-CALNAME:Bachelor of Economics, International Program
X-ORIGINAL-URL:https://www.be.econ.tu.ac.th
X-WR-CALDESC:Events for Bachelor of Economics, International Program
REFRESH-INTERVAL;VALUE=DURATION:PT1H
X-Robots-Tag:noindex
X-PUBLISHED-TTL:PT1H
BEGIN:VTIMEZONE
TZID:Asia/Bangkok
BEGIN:STANDARD
TZOFFSETFROM:+0700
TZOFFSETTO:+0700
TZNAME:+07
DTSTART:20250101T000000
END:STANDARD
END:VTIMEZONE
BEGIN:VEVENT
DTSTART;TZID=Asia/Bangkok:20260223T080000
DTEND;TZID=Asia/Bangkok:20260228T170000
DTSTAMP:20260421T194527
CREATED:20260128T043359Z
LAST-MODIFIED:20260128T043551Z
UID:10000098-1771833600-1772298000@www.be.econ.tu.ac.th
SUMMARY:Mid-term Examination Period
DESCRIPTION:February 23 – 28\, 2026
URL:https://www.be.econ.tu.ac.th/event/mid-term-examination-period-6/
CATEGORIES:Exam Periad,Academic Calendar,Events
END:VEVENT
END:VCALENDAR