BEGIN:VCALENDAR
VERSION:2.0
PRODID:-//Bachelor of Economics, International Program - ECPv6.15.11//NONSGML v1.0//EN
CALSCALE:GREGORIAN
METHOD:PUBLISH
X-WR-CALNAME:Bachelor of Economics, International Program
X-ORIGINAL-URL:https://www.be.econ.tu.ac.th
X-WR-CALDESC:Events for Bachelor of Economics, International Program
REFRESH-INTERVAL;VALUE=DURATION:PT1H
X-Robots-Tag:noindex
X-PUBLISHED-TTL:PT1H
BEGIN:VTIMEZONE
TZID:Asia/Bangkok
BEGIN:STANDARD
TZOFFSETFROM:+0700
TZOFFSETTO:+0700
TZNAME:+07
DTSTART:20240101T000000
END:STANDARD
END:VTIMEZONE
BEGIN:VEVENT
DTSTART;TZID=Asia/Bangkok:20250512T080000
DTEND;TZID=Asia/Bangkok:20250512T170000
DTSTAMP:20260424T222031
CREATED:20240709T085301Z
LAST-MODIFIED:20240711T031457Z
UID:10000059-1747036800-1747069200@www.be.econ.tu.ac.th
SUMMARY:Substitution for Visakha Bucha Day*
DESCRIPTION:Substitution for Visakha Bucha Day*
URL:https://www.be.econ.tu.ac.th/event/substitution-for-visakha-bucha-day/
CATEGORIES:Holidays
END:VEVENT
END:VCALENDAR