BEGIN:VCALENDAR
VERSION:2.0
PRODID:-//Bachelor of Economics, International Program - ECPv6.15.11//NONSGML v1.0//EN
CALSCALE:GREGORIAN
METHOD:PUBLISH
X-ORIGINAL-URL:https://www.be.econ.tu.ac.th
X-WR-CALDESC:Events for Bachelor of Economics, International Program
REFRESH-INTERVAL;VALUE=DURATION:PT1H
X-Robots-Tag:noindex
X-PUBLISHED-TTL:PT1H
BEGIN:VTIMEZONE
TZID:Asia/Bangkok
BEGIN:STANDARD
TZOFFSETFROM:+0700
TZOFFSETTO:+0700
TZNAME:+07
DTSTART:19690101T000000
END:STANDARD
END:VTIMEZONE
BEGIN:VEVENT
DTSTART;TZID=Asia/Bangkok:20230810T090000
DTEND;TZID=Asia/Bangkok:20230810T163000
DTSTAMP:20260420T004232
CREATED:20230525T101644Z
LAST-MODIFIED:20230525T101644Z
UID:10000008-1691658000-1691685000@www.be.econ.tu.ac.th
SUMMARY:Registration via TU Greats App (*ID.66)
DESCRIPTION:
URL:https://www.be.econ.tu.ac.th/event/registration-via-tu-greats-app-id-66/
LOCATION:TU
CATEGORIES:Academic Calendar
END:VEVENT
BEGIN:VEVENT
DTSTART;TZID=Asia/Bangkok:20230801T083000
DTEND;TZID=Asia/Bangkok:20230809T223000
DTSTAMP:20260420T004232
CREATED:20230713T044652Z
LAST-MODIFIED:20230715T150055Z
UID:10000032-1690878600-1691620200@www.be.econ.tu.ac.th
SUMMARY:Create Plan from Quota via TU Greats App (*ID 66)
DESCRIPTION:
URL:https://www.be.econ.tu.ac.th/event/create-plan-from-quota-via-tu-greats-app-same-courses-as-be-portal/
LOCATION:TU
CATEGORIES:Academic Calendar
END:VEVENT
BEGIN:VEVENT
DTSTART;TZID=Asia/Bangkok:20230721T090000
DTEND;TZID=Asia/Bangkok:20230811T223000
DTSTAMP:20260420T004232
CREATED:20230525T101645Z
LAST-MODIFIED:20230715T153254Z
UID:10000009-1689930000-1691793000@www.be.econ.tu.ac.th
SUMMARY:Tuition Fee Payment Period (Via TU Greats App) *ID.61 - 65
DESCRIPTION:
URL:https://www.be.econ.tu.ac.th/event/tuition-fee-payment-period-via-tu-greats-app/
LOCATION:TU
CATEGORIES:Academic Calendar
END:VEVENT
BEGIN:VEVENT
DTSTART;TZID=Asia/Bangkok:20230329T090000
DTEND;TZID=Asia/Bangkok:20230329T123000
DTSTAMP:20260420T004232
CREATED:20230622T082951Z
LAST-MODIFIED:20230622T084513Z
UID:10000031-1680080400-1680093000@www.be.econ.tu.ac.th
SUMMARY:#Series 1 - Curriculum structure\, and the registration system
DESCRIPTION:Room 101\, Faculty of Economics\nThe content of the event deals with the curriculum structure\, the registration system
URL:https://www.be.econ.tu.ac.th/event/series-1-curriculum-structure-and-the-registration-system-2/
LOCATION:TU
CATEGORIES:Academic Calendar
END:VEVENT
BEGIN:VEVENT
DTSTART;TZID=Asia/Bangkok:20260420T004232
DTEND;TZID=Asia/Bangkok:20260420T004232
DTSTAMP:20260420T004232
CREATED:20230622T074100Z
LAST-MODIFIED:20230622T084513Z
UID:10000026-0-0@www.be.econ.tu.ac.th
SUMMARY:#Series 2 - ECON. Subfields Introductory
DESCRIPTION:Room 101\, Faculty of Economics\nEcon. SUBFIELDS introductory SERIES
URL:https://www.be.econ.tu.ac.th/event/series-2-econ-subfields-introductory/
LOCATION:TU
CATEGORIES:Academic Calendar
END:VEVENT
END:VCALENDAR